BEGIN:VCALENDAR
VERSION:2.0
PRODID:-//ALCER Cáceres - ECPv4.6.24.1//NONSGML v1.0//EN
CALSCALE:GREGORIAN
METHOD:PUBLISH
X-WR-CALNAME:ALCER Cáceres
X-ORIGINAL-URL:https://www.alcer-caceres.org
X-WR-CALDESC:Eventos para ALCER Cáceres
BEGIN:VEVENT
DTSTART;VALUE=DATE:20181026
DTEND;VALUE=DATE:20181029
DTSTAMP:20260424T110133
CREATED:20181010T064636Z
LAST-MODIFIED:20220904T093600Z
UID:1895-1540512000-1540771199@www.alcer-caceres.org
SUMMARY:VII Torneo Solidario ALCER por la Donación de Órganos y Tejidos
DESCRIPTION:Un año más\, desde ALCER Cáceres queremos animaros a participar en el Torneo Solidario ALCER por la Donación de Órganos y Tejidos que tendrá lugar el 26\, 27\, y 28 de Octubre en las instalaciones de PadelEnCubierto Cáceres. No os quedéis sin vuestra plaza. Plazas limitadas. Plazo de inscripción hasta el 24 de Octubre. \nOs esperamos con grandes sorpresas: \n\nCAFÉ con CHURROS  el sábado para desayunar\nCOCIDO cortesía de Camping Bungalows Ciudad de Cáceres el sábado para comer\nCHOCOLATE cortesía de Hotel Izan de Trujillo\nPASTELES en la tarde del sábado\, cortesía de las chicas de Padel Solidario Alcer Cáceres\nARROZ NEGRO el domingo para comer\nSORTEO DE REGALOS para todos los participantes!!\n\nGracias por ayudarnos a concienciar y difundir el mensaje “Dona tu órganos\, regala vida” \nOs esperamos a todos en nuestro VII TORNEO SOLIDARIO POR LA DONACIÓN DE ÓRGANOS Y TEJIDOS. \n.fusion-button.button-1 .fusion-button-text\, .fusion-button.button-1 i {color:#ffffff;}.fusion-button.button-1 {border-width:0px;border-color:#ffffff;}.fusion-button.button-1 .fusion-button-icon-divider{border-color:#ffffff;}.fusion-button.button-1:hover .fusion-button-text\, .fusion-button.button-1:hover i\,.fusion-button.button-1:focus .fusion-button-text\, .fusion-button.button-1:focus i\,.fusion-button.button-1:active .fusion-button-text\, .fusion-button.button-1:active{color:#ffffff;}.fusion-button.button-1:hover\, .fusion-button.button-1:focus\, .fusion-button.button-1:active{border-width:0px;border-color:#ffffff;}.fusion-button.button-1:hover .fusion-button-icon-divider\, .fusion-button.button-1:hover .fusion-button-icon-divider\, .fusion-button.button-1:active .fusion-button-icon-divider{border-color:#ffffff;}.fusion-button.button-1{width:auto;}Ver galería de fotos\n
URL:https://www.alcer-caceres.org/evento/vii-torneo-solidario-alcer-caceres/
LOCATION:Pádel en Cubierto\, C/Esquiladores\, 236\, Cáceres\, Cáceres\, España
ATTACH;FMTTYPE=image/jpeg:https://www.alcer-caceres.org/wp-content/uploads/2018/10/43502973_1880311998722840_1047996763530592256_n.jpg
ORGANIZER;CN="ALCER%20C%C3%A1ceres":MAILTO:administracion@alcer-caceres.org
END:VEVENT
END:VCALENDAR