BEGIN:VCALENDAR
VERSION:2.0
PRODID:-//ALCER Cáceres - ECPv4.6.24.1//NONSGML v1.0//EN
CALSCALE:GREGORIAN
METHOD:PUBLISH
X-WR-CALNAME:ALCER Cáceres
X-ORIGINAL-URL:https://www.alcer-caceres.org
X-WR-CALDESC:Eventos para ALCER Cáceres
BEGIN:VEVENT
DTSTART;TZID=UTC+2:20181007T110000
DTEND;TZID=UTC+2:20181007T130000
DTSTAMP:20260415T183740
CREATED:20180918T072705Z
LAST-MODIFIED:20181114T083231Z
UID:1878-1538910000-1538917200@www.alcer-caceres.org
SUMMARY:VII Pedaladas Solidarias “Por la donación de órganos y tejidos”
DESCRIPTION:El próximo día 7 de Octubre\, ALCER CACERES celebrará las VII PEDALADAS SOLIDARIAS POR LA DONACIÓN DE ÓRGANOS Y TEJIDOS. \nLa salida será desde el Quiosco de la Música del Paseo de Cánovas sobre las 11.30 de la mañana. La llegada será en el Centro Comercial Ruta de la Plata\, donde al final de la ruta habrá una espectacular actuación de aficionados al BMX todo ello con la colaboración inestimable del Centro Comercial Ruta de la Plata y como siempre\, un espectacular sorteo de regalos para los participantes. \nPuedes realizar la inscripción de cualquiera de las siguientes maneras: \n\nweb: www.alcer-caceres.org/pedaladas\nTeléfono: 647 761 257\n Email: alcercaceres@gmail.com\n\nOs esperamos\, no faltéis!!! \n#pedaladasALCERcc #HazteDonante #RegalaVida \n  \n.fusion-button.button-1 .fusion-button-text\, .fusion-button.button-1 i {color:#ffffff;}.fusion-button.button-1 {border-width:0px;border-color:#ffffff;}.fusion-button.button-1 .fusion-button-icon-divider{border-color:#ffffff;}.fusion-button.button-1:hover .fusion-button-text\, .fusion-button.button-1:hover i\,.fusion-button.button-1:focus .fusion-button-text\, .fusion-button.button-1:focus i\,.fusion-button.button-1:active .fusion-button-text\, .fusion-button.button-1:active{color:#ffffff;}.fusion-button.button-1:hover\, .fusion-button.button-1:focus\, .fusion-button.button-1:active{border-width:0px;border-color:#ffffff;}.fusion-button.button-1:hover .fusion-button-icon-divider\, .fusion-button.button-1:hover .fusion-button-icon-divider\, .fusion-button.button-1:active .fusion-button-icon-divider{border-color:#ffffff;}.fusion-button.button-1{width:auto;}Ver galería de fotos\n
URL:https://www.alcer-caceres.org/evento/vii-pedaladas-solidarias/
LOCATION:Quiosco de la Música – Paseo de Cánovas\, Av. de España\, s/n\, Cáceres\, Cáceres\, 10001\, España
ATTACH;FMTTYPE=image/jpeg:https://www.alcer-caceres.org/wp-content/uploads/2018/09/vii-pedaladas-solidarias-alcer-caceres.jpg
ORGANIZER;CN="ALCER%20C%C3%A1ceres":MAILTO:administracion@alcer-caceres.org
END:VEVENT
END:VCALENDAR